BEGIN:VCALENDAR
VERSION:2.0
PRODID:-//wp-events-plugin.com//7.0.0.1//EN
TZID:America/Denver
X-WR-TIMEZONE:America/Denver
BEGIN:VEVENT
UID:207@gallatindemocrats.com
DTSTART;TZID=America/Denver:20240502T170000
DTEND;TZID=America/Denver:20240502T200000
DTSTAMP:20240422T054517Z
URL:https://gallatindemocrats.com/events/womens-business-expo/
SUMMARY:Women's Business Expo
DESCRIPTION:Third annual Women's Business Expo. Co-Presented by Bozeman Pro
 fessional Women. Thursday\, May 2 at the Gallatin County Fairgrounds\, Bui
 lding #2901 N. Black Ave.\, Bozeman MT 59715Doors open to the public 5pm-8
 pm. Purchase tickets here. For questions email: president@bozemanbpw.org.
CATEGORIES:Special Event
LOCATION:Gallatin County Fairgrounds\, 901 N Black Ave\, Bozeman\, MT\, 597
 15\, United States
X-APPLE-STRUCTURED-LOCATION;VALUE=URI;X-ADDRESS=901 N Black Ave\, Bozeman\,
  MT\, 59715\, United States;X-APPLE-RADIUS=100;X-TITLE=Gallatin County Fai
 rgrounds:geo:0,0
END:VEVENT
BEGIN:VTIMEZONE
TZID:America/Denver
X-LIC-LOCATION:America/Denver
BEGIN:DAYLIGHT
DTSTART:20240310T030000
TZOFFSETFROM:-0700
TZOFFSETTO:-0600
TZNAME:MDT
END:DAYLIGHT
END:VTIMEZONE
END:VCALENDAR