BEGIN:VCALENDAR
VERSION:2.0
PRODID:-//wp-events-plugin.com//7.0.0.1//EN
TZID:America/Denver
X-WR-TIMEZONE:America/Denver
BEGIN:VEVENT
UID:210@gallatindemocrats.com
DTSTART;TZID=America/Denver:20240518T160000
DTEND;TZID=America/Denver:20240518T200000
DTSTAMP:20240509T144417Z
URL:https://gallatindemocrats.com/events/steve-osman-open-house-a-benefit-
 for-the-gallatin-democrats-2/
SUMMARY:Steve Osman Open House: A Benefit for the Gallatin Democrats
DESCRIPTION:Bozeman artist Steve Osman is hosting an Open House at his stud
 io on 201 S Wallace on Saturday\, May 18th from 4 to 8 pm. All proceeds fr
 om the event will go to benefit the Gallatin Democrats and our vital work 
 to support ALL Gallatin County Candidates\, from the bottom of the ballot 
 up.
CATEGORIES:Special Event
LOCATION:Steve Osman Gallery\, 201 S Wallace Ave\, Bozeman\, Montana\, 5971
 5\, United States
X-APPLE-STRUCTURED-LOCATION;VALUE=URI;X-ADDRESS=201 S Wallace Ave\, Bozeman
 \, Montana\, 59715\, United States;X-APPLE-RADIUS=100;X-TITLE=Steve Osman 
 Gallery:geo:0,0
END:VEVENT
BEGIN:VTIMEZONE
TZID:America/Denver
X-LIC-LOCATION:America/Denver
BEGIN:DAYLIGHT
DTSTART:20240310T030000
TZOFFSETFROM:-0700
TZOFFSETTO:-0600
TZNAME:MDT
END:DAYLIGHT
END:VTIMEZONE
END:VCALENDAR