BEGIN:VCALENDAR
VERSION:2.0
PRODID:-//wp-events-plugin.com//7.0.0.1//EN
TZID:America/Denver
X-WR-TIMEZONE:America/Denver
BEGIN:VEVENT
UID:203@gallatindemocrats.com
DTSTART;TZID=America/Denver:20240419T170000
DTEND;TZID=America/Denver:20240419T170000
DTSTAMP:20240415T175741Z
URL:https://gallatindemocrats.com/events/special-purpose-district-school-e
 lection-ballots-mailed-2/
SUMMARY:Special Purpose District & School Election ballots mailed
DESCRIPTION:Ballots to be mailed to voters for the May Special Purpose Dist
 rict & School Elections by the Gallatin County Elections Department
CATEGORIES:Election
END:VEVENT
BEGIN:VTIMEZONE
TZID:America/Denver
X-LIC-LOCATION:America/Denver
BEGIN:DAYLIGHT
DTSTART:20240310T030000
TZOFFSETFROM:-0700
TZOFFSETTO:-0600
TZNAME:MDT
END:DAYLIGHT
END:VTIMEZONE
END:VCALENDAR