BEGIN:VCALENDAR
VERSION:2.0
PRODID:-//wp-events-plugin.com//7.0.0.1//EN
TZID:America/Denver
X-WR-TIMEZONE:America/Denver
BEGIN:VEVENT
UID:204@gallatindemocrats.com
DTSTART;TZID=America/Denver:20240507T070000
DTEND;TZID=America/Denver:20240507T200000
DTSTAMP:20240415T180326Z
URL:https://gallatindemocrats.com/events/special-purpose-district-school-e
 lection-2/
SUMMARY:Special Purpose District & School Election
DESCRIPTION:Special Purpose District & School Elections is an all-mail ball
 ot\; ballots are to be mailed on April 19\, 2024. Return ballots to the Ga
 llatin County Elections Office by 8pm. For more info\, visit Gallatin Coun
 ty Elections Department.
CATEGORIES:Election
LOCATION:Gallatin County Courthouse\, 311 W Main St\, Bozeman\, Montana\, 5
 9715\, United States
X-APPLE-STRUCTURED-LOCATION;VALUE=URI;X-ADDRESS=311 W Main St\, Bozeman\, M
 ontana\, 59715\, United States;X-APPLE-RADIUS=100;X-TITLE=Gallatin County 
 Courthouse:geo:0,0
END:VEVENT
BEGIN:VTIMEZONE
TZID:America/Denver
X-LIC-LOCATION:America/Denver
BEGIN:DAYLIGHT
DTSTART:20240310T030000
TZOFFSETFROM:-0700
TZOFFSETTO:-0600
TZNAME:MDT
END:DAYLIGHT
END:VTIMEZONE
END:VCALENDAR