BEGIN:VCALENDAR
VERSION:2.0
PRODID:-//wp-events-plugin.com//7.0.0.1//EN
TZID:America/Denver
X-WR-TIMEZONE:America/Denver
BEGIN:VEVENT
UID:196@gallatindemocrats.com
DTSTART;TZID=America/Denver:20240304T170000
DTEND;TZID=America/Denver:20240304T190000
DTSTAMP:20240301T201839Z
URL:https://gallatindemocrats.com/events/scott-rosenzweig-in-gardiner/
SUMMARY:Scott Rosenzweig in Gardiner
DESCRIPTION:Join Scott Rosenzweig in Gardiner for a Listen & Learn Session.
  Monday\, March 4 from 5-7 pm at the Wonderland Care & Lodge at 206 Main S
 t\, in Gardiner.  
CATEGORIES:Candidate Event
LOCATION:Wonderland Cafe & Lodge\, 206 Main St\, Gardiner\, MT\, 59030\, Un
 ited States
X-APPLE-STRUCTURED-LOCATION;VALUE=URI;X-ADDRESS=206 Main St\, Gardiner\, MT
 \, 59030\, United States;X-APPLE-RADIUS=100;X-TITLE=Wonderland Cafe & Lodg
 e:geo:0,0
END:VEVENT
BEGIN:VTIMEZONE
TZID:America/Denver
X-LIC-LOCATION:America/Denver
BEGIN:STANDARD
DTSTART:20231105T010000
TZOFFSETFROM:-0600
TZOFFSETTO:-0700
TZNAME:MST
END:STANDARD
END:VTIMEZONE
END:VCALENDAR