BEGIN:VCALENDAR
VERSION:2.0
PRODID:-//wp-events-plugin.com//7.0.0.1//EN
TZID:America/Denver
X-WR-TIMEZONE:America/Denver
BEGIN:VEVENT
UID:191@gallatindemocrats.com
DTSTART;TZID=America/Denver:20240220T170000
DTEND;TZID=America/Denver:20240220T190000
DTSTAMP:20240212T215108Z
URL:https://gallatindemocrats.com/events/scott-rosenzweig-for-hd-57-at-kat
 abatic-brewing-in-livingston/
SUMMARY:Scott Rosenzweig for HD 57 at Katabatic Brewing in Livingston
DESCRIPTION:Meet Scott Rosenzweig\, Democratic candidate for newly created 
 HD 57\, on Tuesday\, February 20 from 5-7 pm at Katabatic Brewing (117 W P
 ark St) in Livingston. The event is free and open to the public\, but seat
 s are limited.
CATEGORIES:Candidate Event
LOCATION:Katabatic Brewing\, 117 W Park St\, Livingston\, MT\, 59047\, Unit
 ed States
X-APPLE-STRUCTURED-LOCATION;VALUE=URI;X-ADDRESS=117 W Park St\, Livingston\
 , MT\, 59047\, United States;X-APPLE-RADIUS=100;X-TITLE=Katabatic Brewing:
 geo:0,0
END:VEVENT
BEGIN:VTIMEZONE
TZID:America/Denver
X-LIC-LOCATION:America/Denver
BEGIN:STANDARD
DTSTART:20231105T010000
TZOFFSETFROM:-0600
TZOFFSETTO:-0700
TZNAME:MST
END:STANDARD
END:VTIMEZONE
END:VCALENDAR