BEGIN:VCALENDAR
VERSION:2.0
PRODID:-//wp-events-plugin.com//7.0.0.1//EN
TZID:America/Denver
X-WR-TIMEZONE:America/Denver
BEGIN:VEVENT
UID:197@gallatindemocrats.com
DTSTART;TZID=America/Denver:20240327T173000
DTEND;TZID=America/Denver:20240327T190000
DTSTAMP:20240318T210027Z
URL:https://gallatindemocrats.com/events/ryan-raph-in-livingston/
SUMMARY:Ryan & Raph in Livingston
DESCRIPTION:Join Ryan and Raph at Katabatic Brewing (117 W Park St\, Living
 ston) on Wednesday\, March 27\, 2024. Email info@busseformontana.com for a
 dditional details.
CATEGORIES:Candidate Event
LOCATION:Katabatic Brewing\, 117 W Park St\, Livingston\, MT\, 59047\, Unit
 ed States
X-APPLE-STRUCTURED-LOCATION;VALUE=URI;X-ADDRESS=117 W Park St\, Livingston\
 , MT\, 59047\, United States;X-APPLE-RADIUS=100;X-TITLE=Katabatic Brewing:
 geo:0,0
END:VEVENT
BEGIN:VTIMEZONE
TZID:America/Denver
X-LIC-LOCATION:America/Denver
BEGIN:DAYLIGHT
DTSTART:20240310T030000
TZOFFSETFROM:-0700
TZOFFSETTO:-0600
TZNAME:MDT
END:DAYLIGHT
END:VTIMEZONE
END:VCALENDAR