BEGIN:VCALENDAR
VERSION:2.0
PRODID:-//wp-events-plugin.com//7.0.0.1//EN
TZID:America/Denver
X-WR-TIMEZONE:America/Denver
BEGIN:VEVENT
UID:142@gallatindemocrats.com
DTSTART;TZID=America/Denver;VALUE=DATE:20230609
DTEND;TZID=America/Denver;VALUE=DATE:20230611
DTSTAMP:20230515T164533Z
URL:https://gallatindemocrats.com/events/retreat-gallatin-county-democrati
 c-central-committee/
SUMMARY:Retreat - Gallatin County Democratic Central Committee
DESCRIPTION:Gallatin County Democrats annual retreat\, evening of Friday Ju
 ne 9th and day of Saturday June 10th. Open to all current precinct represe
 ntatives. \n\nInterested in joining GCDCC and making a difference in our c
 ommunity? We have several precinct rep vacancies! Contact us at info@galla
 tindemocrats.com or call/text 406-589-2165 for more information.\n\nMore r
 etreat details to follow. 
CATEGORIES:Special Event
END:VEVENT
BEGIN:VTIMEZONE
TZID:America/Denver
X-LIC-LOCATION:America/Denver
BEGIN:DAYLIGHT
DTSTART:20230312T030000
TZOFFSETFROM:-0700
TZOFFSETTO:-0600
TZNAME:MDT
END:DAYLIGHT
END:VTIMEZONE
END:VCALENDAR