BEGIN:VCALENDAR
VERSION:2.0
PRODID:-//wp-events-plugin.com//7.0.0.1//EN
TZID:America/Denver
X-WR-TIMEZONE:America/Denver
BEGIN:VEVENT
UID:206@gallatindemocrats.com
DTSTART;TZID=America/Denver:20240604T070000
DTEND;TZID=America/Denver:20240604T200000
DTSTAMP:20240422T051643Z
URL:https://gallatindemocrats.com/events/primary-election/
SUMMARY:Primary Election
DESCRIPTION:Absentee ballots for the Primary Election will be mailed on May
  10\, 2024. Military and overseas U.S. citizens ballot mailing/delivery d
 ate April 19\, 2024\; absentee ballots may be returned in the Gallatin Co
 unty Elections Office during normal business hours or on Election Day at t
 he Election Office or any polling place between 7 a.m. and 8 p.m. Polling 
 place voters may vote at their designated polling location on Election Da
 y between 7 a.m. and 8 p.m.
CATEGORIES:Election
LOCATION:Gallatin County Courthouse\, 311 W Main St\, Bozeman\, Montana\, 5
 9715\, United States
X-APPLE-STRUCTURED-LOCATION;VALUE=URI;X-ADDRESS=311 W Main St\, Bozeman\, M
 ontana\, 59715\, United States;X-APPLE-RADIUS=100;X-TITLE=Gallatin County 
 Courthouse:geo:0,0
END:VEVENT
BEGIN:VTIMEZONE
TZID:America/Denver
X-LIC-LOCATION:America/Denver
BEGIN:DAYLIGHT
DTSTART:20240310T030000
TZOFFSETFROM:-0700
TZOFFSETTO:-0600
TZNAME:MDT
END:DAYLIGHT
END:VTIMEZONE
END:VCALENDAR