BEGIN:VCALENDAR
VERSION:2.0
PRODID:-//wp-events-plugin.com//7.0.0.1//EN
TZID:America/Denver
X-WR-TIMEZONE:America/Denver
BEGIN:VEVENT
UID:192@gallatindemocrats.com
DTSTART;TZID=America/Denver:20240221T180000
DTEND;TZID=America/Denver:20240221T200000
DTSTAMP:20240212T215030Z
URL:https://gallatindemocrats.com/events/meet-ryan-busse-and-his-running-m
 ate/
SUMMARY:Meet Ryan Busse and His Running Mate
DESCRIPTION:Join Ryan Busse and his running mate in Bozeman on Wednesday\, 
 February 21st from 6-8 pm at the Filling Station on North Rouse Ave. For m
 ore info\, email info@busseformontana.com
CATEGORIES:Candidate Event
LOCATION:Filling Station\, 2005 N Rouse Ave\, Bozeman\, MT\, 59715\, United
  States
X-APPLE-STRUCTURED-LOCATION;VALUE=URI;X-ADDRESS=2005 N Rouse Ave\, Bozeman\
 , MT\, 59715\, United States;X-APPLE-RADIUS=100;X-TITLE=Filling Station:ge
 o:0,0
END:VEVENT
BEGIN:VTIMEZONE
TZID:America/Denver
X-LIC-LOCATION:America/Denver
BEGIN:STANDARD
DTSTART:20231105T010000
TZOFFSETFROM:-0600
TZOFFSETTO:-0700
TZNAME:MST
END:STANDARD
END:VTIMEZONE
END:VCALENDAR