BEGIN:VCALENDAR
VERSION:2.0
PRODID:-//wp-events-plugin.com//7.0.0.1//EN
TZID:America/Denver
X-WR-TIMEZONE:America/Denver
BEGIN:VEVENT
UID:143@gallatindemocrats.com
DTSTART;TZID=America/Denver:20230628T180000
DTEND;TZID=America/Denver:20230628T193000
DTSTAMP:20230515T164540Z
URL:https://gallatindemocrats.com/events/june-monthly-meeting/
SUMMARY:June Monthly Meeting
DESCRIPTION:Join Gallatin County Democrats for our monthly meeting!\n\nDeta
 ils to follow.
CATEGORIES:Monthly Meeting
END:VEVENT
BEGIN:VTIMEZONE
TZID:America/Denver
X-LIC-LOCATION:America/Denver
BEGIN:DAYLIGHT
DTSTART:20230312T030000
TZOFFSETFROM:-0700
TZOFFSETTO:-0600
TZNAME:MDT
END:DAYLIGHT
END:VTIMEZONE
END:VCALENDAR