BEGIN:VCALENDAR
VERSION:2.0
PRODID:-//wp-events-plugin.com//7.0.0.1//EN
TZID:America/Denver
X-WR-TIMEZONE:America/Denver
BEGIN:VEVENT
UID:214@gallatindemocrats.com
DTSTART;TZID=America/Denver:20240925T173000
DTEND;TZID=America/Denver:20240925T190000
DTSTAMP:20240923T035509Z
URL:https://gallatindemocrats.com/events/gallatin-dems-september-monthly-m
 eeting/
SUMMARY:Meet Ryan & Raph in Bozeman
DESCRIPTION:Please join us on Wednesday\, September 25\, 2024 from 5:30 -7 
 pm\, for the Gallatin Democratic Central Committee monthly meeting. This m
 onth\, we will join Montana's Democratic Candidate for Governor\, Ryan Bus
 se\, and his running mate\, Raph Graybill\, for an event at Story Mill Par
 k.
CATEGORIES:Candidate Event,Monthly Meeting
LOCATION:Story Mill Park\, 698 Bridger Dr\, Bozeman\, Montana\, 59715\, Uni
 ted States
X-APPLE-STRUCTURED-LOCATION;VALUE=URI;X-ADDRESS=698 Bridger Dr\, Bozeman\, 
 Montana\, 59715\, United States;X-APPLE-RADIUS=100;X-TITLE=Story Mill Park
 :geo:0,0
END:VEVENT
BEGIN:VTIMEZONE
TZID:America/Denver
X-LIC-LOCATION:America/Denver
BEGIN:DAYLIGHT
DTSTART:20240310T030000
TZOFFSETFROM:-0700
TZOFFSETTO:-0600
TZNAME:MDT
END:DAYLIGHT
END:VTIMEZONE
END:VCALENDAR