BEGIN:VCALENDAR
VERSION:2.0
PRODID:-//wp-events-plugin.com//7.0.0.1//EN
TZID:America/Denver
X-WR-TIMEZONE:America/Denver
BEGIN:VEVENT
UID:199@gallatindemocrats.com
DTSTART;TZID=America/Denver:20240403T173000
DTEND;TZID=America/Denver:20240403T190000
DTSTAMP:20240325T173238Z
URL:https://gallatindemocrats.com/events/gallatin-democrats-newcomers-meet
 ing/
SUMMARY:Gallatin Democrats Newcomers Meeting
DESCRIPTION:Gallatin Democrats are hosting another Newcomers meeting next 
 Wednesday\, April 3 at 5:30pm at our office (67A W Kagy). Learn about our 
 work for the 2024 General Election and why Gallatin Democrats can change t
 he shape of Montana politics.
CATEGORIES:Special Event,Volunteer Opportunity
LOCATION:Gallatin Democrats Office\, 67-A W Kagy Ave\, Bozeman\, MT\, 59715
 \, United States
X-APPLE-STRUCTURED-LOCATION;VALUE=URI;X-ADDRESS=67-A W Kagy Ave\, Bozeman\,
  MT\, 59715\, United States;X-APPLE-RADIUS=100;X-TITLE=Gallatin Democrats 
 Office:geo:0,0
END:VEVENT
BEGIN:VTIMEZONE
TZID:America/Denver
X-LIC-LOCATION:America/Denver
BEGIN:DAYLIGHT
DTSTART:20240310T030000
TZOFFSETFROM:-0700
TZOFFSETTO:-0600
TZNAME:MDT
END:DAYLIGHT
END:VTIMEZONE
END:VCALENDAR