BEGIN:VCALENDAR
VERSION:2.0
PRODID:-//wp-events-plugin.com//7.0.0.1//EN
TZID:America/Denver
X-WR-TIMEZONE:America/Denver
BEGIN:VEVENT
UID:212@gallatindemocrats.com
DTSTART;TZID=America/Denver:20240724T180000
DTEND;TZID=America/Denver:20240724T193000
DTSTAMP:20240722T021434Z
URL:https://gallatindemocrats.com/events/gallatin-democrats-monthly/
SUMMARY:Gallatin Democrats monthly meeting
DESCRIPTION:Please join us on Wednesday\, July 24\, 2024 for the Gallatin D
 emocratic Central Committee monthly meeting\, from 6-7:30pm at the Bozeman
  Public Library\, Cottonwood Room. Montana House and Senate Democrats anno
 unced a proposal for long-term property tax relief. Come learn more about 
 Montana Democrats' plan directly from Senator Pat Flowers. Also\, the Leag
 ue of Women Voters will join us to explain their plans for candidate forum
 s this election season.
CATEGORIES:Monthly Meeting
LOCATION:Bozeman Public Library\, 626 E Main St\, Bozeman\, Montana\, 59715
 \, United States
X-APPLE-STRUCTURED-LOCATION;VALUE=URI;X-ADDRESS=626 E Main St\, Bozeman\, M
 ontana\, 59715\, United States;X-APPLE-RADIUS=100;X-TITLE=Bozeman Public L
 ibrary:geo:0,0
END:VEVENT
BEGIN:VTIMEZONE
TZID:America/Denver
X-LIC-LOCATION:America/Denver
BEGIN:DAYLIGHT
DTSTART:20240310T030000
TZOFFSETFROM:-0700
TZOFFSETTO:-0600
TZNAME:MDT
END:DAYLIGHT
END:VTIMEZONE
END:VCALENDAR