BEGIN:VCALENDAR
VERSION:2.0
PRODID:-//wp-events-plugin.com//7.0.0.1//EN
TZID:America/Denver
X-WR-TIMEZONE:America/Denver
BEGIN:VEVENT
UID:213@gallatindemocrats.com
DTSTART;TZID=America/Denver:20240828T173000
DTEND;TZID=America/Denver:20240828T190000
DTSTAMP:20240822T193120Z
URL:https://gallatindemocrats.com/events/gallatin-democrats-august-monthly
 -meeting/
SUMMARY:Gallatin Democrats monthly meeting
DESCRIPTION:A representative from Montanans Securing Reproductive Rights wi
 ll come tell us more about CI128 and how it will protect reproductive righ
 ts in Montana. Also\, Anja Wookey-Huffman\, Gallatin Dems precinct represe
 ntative and MT Dems executive committee member\, will share her impression
 s and takeaways from the Chicago Democratic National Convention. On Wednes
 day\, August 28\, we will meet at the Bozeman Senior Center (807 N Tracy)
 \; potluck dinner at 5:30pm and the formal meeting starts at 6pm.
CATEGORIES:Monthly Meeting
LOCATION:\, \, 
X-APPLE-STRUCTURED-LOCATION;VALUE=URI;X-ADDRESS=\, ;X-APPLE-RADIUS=100;X-TI
 TLE=:geo:0,0
END:VEVENT
BEGIN:VTIMEZONE
TZID:America/Denver
X-LIC-LOCATION:America/Denver
BEGIN:DAYLIGHT
DTSTART:20240310T030000
TZOFFSETFROM:-0700
TZOFFSETTO:-0600
TZNAME:MDT
END:DAYLIGHT
END:VTIMEZONE
END:VCALENDAR