BEGIN:VCALENDAR
VERSION:2.0
PRODID:-//wp-events-plugin.com//7.0.0.1//EN
TZID:America/Denver
X-WR-TIMEZONE:America/Denver
BEGIN:VEVENT
UID:188@gallatindemocrats.com
DTSTART;TZID=America/Denver:20240130T173000
DTEND;TZID=America/Denver:20240130T190000
DTSTAMP:20240119T223057Z
URL:https://gallatindemocrats.com/events/fundraiser-for-jesse-james-mullen
 -secretary-of-state-candidate/
SUMMARY:Fundraiser for Jesse James Mullen\, Secretary of State Candidate
DESCRIPTION:Meet & Greet Democratic Candidate for Secretary of State Jesse 
 James Mullen at Upstairs at the SHINE Beer Sanctuary + Bottle Shop (451 E 
 Main St\, Bozeman 59715)\, January 30th from 5:30-7pm. 
CATEGORIES:Candidate Event
LOCATION:SHINE Beer Sanctuary\, 451 E Main St\, Bozeman\, MT\, 59715\, Unit
 ed States
X-APPLE-STRUCTURED-LOCATION;VALUE=URI;X-ADDRESS=451 E Main St\, Bozeman\, M
 T\, 59715\, United States;X-APPLE-RADIUS=100;X-TITLE=SHINE Beer Sanctuary:
 geo:0,0
END:VEVENT
BEGIN:VTIMEZONE
TZID:America/Denver
X-LIC-LOCATION:America/Denver
BEGIN:STANDARD
DTSTART:20231105T010000
TZOFFSETFROM:-0600
TZOFFSETTO:-0700
TZNAME:MST
END:STANDARD
END:VTIMEZONE
END:VCALENDAR