BEGIN:VCALENDAR
VERSION:2.0
PRODID:-//wp-events-plugin.com//7.0.0.1//EN
TZID:America/Denver
X-WR-TIMEZONE:America/Denver
BEGIN:VEVENT
UID:194@gallatindemocrats.com
DTSTART;TZID=America/Denver:20240224T140000
DTEND;TZID=America/Denver:20240224T153000
DTSTAMP:20240219T201454Z
URL:https://gallatindemocrats.com/events/coffee-with-your-candidate-carl-a
 nderson/
SUMMARY:Coffee with Your Candidate-Carl Anderson
DESCRIPTION:Belgrade Democrats invite you to meet our Legislative Candidate
  for Belgrade District 67\, Carl Anderson on Saturday\, February 24 from 2
 -3:30 pm at CAFE HAVANA (86 N Broadway\, Belgrade) 
CATEGORIES:Candidate Event
LOCATION:Cafe Havana\, 86 N Broadway\, Belgrade\, MT\, 59714\, United State
 s
X-APPLE-STRUCTURED-LOCATION;VALUE=URI;X-ADDRESS=86 N Broadway\, Belgrade\, 
 MT\, 59714\, United States;X-APPLE-RADIUS=100;X-TITLE=Cafe Havana:geo:0,0
END:VEVENT
BEGIN:VTIMEZONE
TZID:America/Denver
X-LIC-LOCATION:America/Denver
BEGIN:STANDARD
DTSTART:20231105T010000
TZOFFSETFROM:-0600
TZOFFSETTO:-0700
TZNAME:MST
END:STANDARD
END:VTIMEZONE
END:VCALENDAR