BEGIN:VCALENDAR
VERSION:2.0
PRODID:-//wp-events-plugin.com//7.0.0.1//EN
TZID:America/Denver
X-WR-TIMEZONE:America/Denver
BEGIN:VEVENT
UID:209@gallatindemocrats.com
DTSTART;TZID=America/Denver:20240427T140000
DTEND;TZID=America/Denver:20240427T153000
DTSTAMP:20240424T210325Z
URL:https://gallatindemocrats.com/events/coffee-with-your-candidate-carl-a
 nderson-2/
SUMMARY:Coffee with your Candidate: Carl Anderson
DESCRIPTION:Saturday\, April 27 join Belgrade Democrats for Coffee with you
 r Candidate\; this month features House District 67 Democratic Candidate C
 arl Anderson. Meet Carl Saturday\, April 27 from 2-3:30pm at Cafe Havana\
 , 86 N Broadway in Belgrade. 
CATEGORIES:Candidate Event
LOCATION:Cafe Havana\, 86 N Broadway\, Belgrade\, MT\, 59714\, United State
 s
X-APPLE-STRUCTURED-LOCATION;VALUE=URI;X-ADDRESS=86 N Broadway\, Belgrade\, 
 MT\, 59714\, United States;X-APPLE-RADIUS=100;X-TITLE=Cafe Havana:geo:0,0
END:VEVENT
BEGIN:VTIMEZONE
TZID:America/Denver
X-LIC-LOCATION:America/Denver
BEGIN:DAYLIGHT
DTSTART:20240310T030000
TZOFFSETFROM:-0700
TZOFFSETTO:-0600
TZNAME:MDT
END:DAYLIGHT
END:VTIMEZONE
END:VCALENDAR