BEGIN:VCALENDAR
VERSION:2.0
PRODID:-//wp-events-plugin.com//7.0.0.1//EN
TZID:America/Denver
X-WR-TIMEZONE:America/Denver
BEGIN:VEVENT
UID:211@gallatindemocrats.com
DTSTART;TZID=America/Denver:20240519T140000
DTEND;TZID=America/Denver:20240519T160000
DTSTAMP:20240513T024244Z
URL:https://gallatindemocrats.com/events/canvass-hd64-with-rep-kelly-kortu
 m/
SUMMARY:Canvass HD64 with Rep Kelly Kortum
DESCRIPTION:Canvass with Montana Rep and 2024 House District 64 Candidate K
 elly Kortum on Sunday\, May 19 from 2 to 4 pm. 
CATEGORIES:Canvass
END:VEVENT
BEGIN:VTIMEZONE
TZID:America/Denver
X-LIC-LOCATION:America/Denver
BEGIN:DAYLIGHT
DTSTART:20240310T030000
TZOFFSETFROM:-0700
TZOFFSETTO:-0600
TZNAME:MDT
END:DAYLIGHT
END:VTIMEZONE
END:VCALENDAR