BEGIN:VCALENDAR
VERSION:2.0
PRODID:-//wp-events-plugin.com//7.0.0.1//EN
TZID:America/Denver
X-WR-TIMEZONE:America/Denver
BEGIN:VEVENT
UID:208@gallatindemocrats.com
DTSTART;TZID=America/Denver:20240428T140000
DTEND;TZID=America/Denver:20240428T160000
DTSTAMP:20240422T223216Z
URL:https://gallatindemocrats.com/events/canvass-hd-61-with-candidate-beck
 y-edwards/
SUMMARY:Canvass HD 61 with Candidate Becky Edwards
DESCRIPTION:Join House District 61 Candidate Becky Edwards to meet neighb
 ors and community members on Sunday\, April 28 from 2-4pm. Please reserv
 e your canvassing spot today. 
CATEGORIES:Canvass
END:VEVENT
BEGIN:VTIMEZONE
TZID:America/Denver
X-LIC-LOCATION:America/Denver
BEGIN:DAYLIGHT
DTSTART:20240310T030000
TZOFFSETFROM:-0700
TZOFFSETTO:-0600
TZNAME:MDT
END:DAYLIGHT
END:VTIMEZONE
END:VCALENDAR