BEGIN:VCALENDAR
VERSION:2.0
PRODID:-//wp-events-plugin.com//7.0.0.1//EN
TZID:America/Denver
X-WR-TIMEZONE:America/Denver
BEGIN:VEVENT
UID:202@gallatindemocrats.com
DTSTART;TZID=America/Denver:20240424T183000
DTEND;TZID=America/Denver:20240424T193000
DTSTAMP:20240415T175404Z
URL:https://gallatindemocrats.com/events/bozeman-school-district-7-candida
 te-forum/
SUMMARY:Bozeman School District 7 Candidate Forum
DESCRIPTION:The League of Women Voters of the Bozeman Area\, Bozeman Public
  Library\, Belgrade Community Library\, and the American Association of Un
 iversity Women\, are sponsoring Bozeman School District 7 Candidate Forum 
 on Wednesday\, April 24 from 6:30 -7:30 pm at the Bozeman Public Library.
CATEGORIES:Candidate/Issue Forum
LOCATION:Bozeman Public Library\, 626 E Main St\, Bozeman\, Montana\, 59715
 \, United States
X-APPLE-STRUCTURED-LOCATION;VALUE=URI;X-ADDRESS=626 E Main St\, Bozeman\, M
 ontana\, 59715\, United States;X-APPLE-RADIUS=100;X-TITLE=Bozeman Public L
 ibrary:geo:0,0
END:VEVENT
BEGIN:VTIMEZONE
TZID:America/Denver
X-LIC-LOCATION:America/Denver
BEGIN:DAYLIGHT
DTSTART:20240310T030000
TZOFFSETFROM:-0700
TZOFFSETTO:-0600
TZNAME:MDT
END:DAYLIGHT
END:VTIMEZONE
END:VCALENDAR