BEGIN:VCALENDAR
VERSION:2.0
PRODID:-//wp-events-plugin.com//7.0.0.1//EN
TZID:America/Denver
X-WR-TIMEZONE:America/Denver
BEGIN:VEVENT
UID:190@gallatindemocrats.com
DTSTART;TZID=America/Denver:20240304T170000
DTEND;TZID=America/Denver:20240304T194500
DTSTAMP:20240212T215150Z
URL:https://gallatindemocrats.com/events/ben-alke-for-ag-at-little-star-di
 ner/
SUMMARY:Ben Alke for AG at Little Star Diner
DESCRIPTION:Please join Ben Alke\, candidate to be Montana's next Attorney 
 General in the 2024 election\, for a special community event hosted at Lit
 tle Star Diner on Monday\, March 4\, 2024 @ 5 pm. Please RSVP to benalke
 @alkeformontana.com
CATEGORIES:Candidate Event
LOCATION:Little Star Diner\, 548 E Babcock St\, Bozeman\, MT\, 59715\, Unit
 ed States
X-APPLE-STRUCTURED-LOCATION;VALUE=URI;X-ADDRESS=548 E Babcock St\, Bozeman\
 , MT\, 59715\, United States;X-APPLE-RADIUS=100;X-TITLE=Little Star Diner:
 geo:0,0
END:VEVENT
BEGIN:VTIMEZONE
TZID:America/Denver
X-LIC-LOCATION:America/Denver
BEGIN:STANDARD
DTSTART:20231105T010000
TZOFFSETFROM:-0600
TZOFFSETTO:-0700
TZNAME:MST
END:STANDARD
END:VTIMEZONE
END:VCALENDAR