BEGIN:VCALENDAR
VERSION:2.0
PRODID:-//wp-events-plugin.com//7.0.0.1//EN
TZID:America/Denver
X-WR-TIMEZONE:America/Denver
BEGIN:VEVENT
UID:205@gallatindemocrats.com
DTSTART;TZID=America/Denver:20240422T183000
DTEND;TZID=America/Denver:20240422T193000
DTSTAMP:20240415T180754Z
URL:https://gallatindemocrats.com/events/belgrade-schools-district-44-cand
 idate-forum/
SUMMARY:Belgrade Schools District 44 Candidate Forum
DESCRIPTION:The League of Women Voters of the Bozeman Area\, Bozeman Public
  Library\, Belgrade Community Library\, and the American Association of Un
 iversity Women\, are sponsoring school board candidate forums in April in 
 Belgrade and Bozeman. Belgrade School District 44 – School Board Candida
 te Forum. Join on Monday\, April 22 from 6:30 -7:30 pm at the Belgrade Com
 munity Library.
CATEGORIES:Candidate/Issue Forum
LOCATION:Belgrade Community Library\, 106 N Broadway\, Belgrade\, Montana\,
  59714\, United States
GEO:0.000000;0.000000
X-APPLE-STRUCTURED-LOCATION;VALUE=URI;X-ADDRESS=106 N Broadway\, Belgrade\,
  Montana\, 59714\, United States;X-APPLE-RADIUS=100;X-TITLE=Belgrade Commu
 nity Library:geo:0.000000,0.000000
END:VEVENT
BEGIN:VTIMEZONE
TZID:America/Denver
X-LIC-LOCATION:America/Denver
BEGIN:DAYLIGHT
DTSTART:20240310T030000
TZOFFSETFROM:-0700
TZOFFSETTO:-0600
TZNAME:MDT
END:DAYLIGHT
END:VTIMEZONE
END:VCALENDAR