BEGIN:VCALENDAR
VERSION:2.0
PRODID:-//wp-events-plugin.com//7.0.0.1//EN
TZID:America/Denver
X-WR-TIMEZONE:America/Denver
BEGIN:VEVENT
UID:195@gallatindemocrats.com
DTSTART;TZID=America/Denver:20240320T183000
DTEND;TZID=America/Denver:20240320T200000
DTSTAMP:20240229T215432Z
URL:https://gallatindemocrats.com/events/an-evening-with-dr-cora-neumann-g
 rassroots-to-global-the-power-of-public-health/
SUMMARY:An Evening with Dr. Cora Neumann\, Grassroots to Global: The Power 
 of Public Health
DESCRIPTION:In celebration of Women’s History Month\, Montana State Unive
 rsity brings you a special lecture by public health practitioner\, policy 
 advocate and non-profit strategist\, Dr. Cora Neumann\, founder of the Fi
 rst Ladies Global Alliance.  Dr. Neumann’s lecture will be held on Wed
 nesday\, March 20th at 6:30 p.m. in Inspiration Hall in Norm Asbjornson H
 all. 
CATEGORIES:Special Event
LOCATION:Inspiration Hall\, Norm Asbjornson Hall\, Bozeman\, MT\, 59715\, U
 nited States
X-APPLE-STRUCTURED-LOCATION;VALUE=URI;X-ADDRESS=Norm Asbjornson Hall\, Boze
 man\, MT\, 59715\, United States;X-APPLE-RADIUS=100;X-TITLE=Inspiration Ha
 ll:geo:0,0
END:VEVENT
BEGIN:VTIMEZONE
TZID:America/Denver
X-LIC-LOCATION:America/Denver
BEGIN:DAYLIGHT
DTSTART:20240310T030000
TZOFFSETFROM:-0700
TZOFFSETTO:-0600
TZNAME:MDT
END:DAYLIGHT
END:VTIMEZONE
END:VCALENDAR