BEGIN:VCALENDAR
VERSION:2.0
PRODID:-//wp-events-plugin.com//7.0.0.1//EN
TZID:America/Denver
X-WR-TIMEZONE:America/Denver
BEGIN:VEVENT
UID:141@gallatindemocrats.com
DTSTART;TZID=America/Denver:20230515T180000
DTEND;TZID=America/Denver:20230515T193000
DTSTAMP:20230508T211956Z
URL:https://gallatindemocrats.com/events/2023-legislator-town-hall/
SUMMARY:Legislator Town Hall
DESCRIPTION:As the 68th legislative session ends\, our elected state lawmak
 ers return to Gallatin County to resume other duties. Discuss with your el
 ected officials the legislative session\, as well as the future political 
 landscape as we look into 2024 and beyond.
ATTACH;FMTTYPE=image/jpeg:https://gallatindemocrats.com/wp-content/uploads
 /2023/05/Gallatin-Legislator-Town-Hall.png
CATEGORIES:Special Event
LOCATION:\, \, 
X-APPLE-STRUCTURED-LOCATION;VALUE=URI;X-ADDRESS=\, ;X-APPLE-RADIUS=100;X-TI
 TLE=:geo:0,0
END:VEVENT
BEGIN:VTIMEZONE
TZID:America/Denver
X-LIC-LOCATION:America/Denver
BEGIN:DAYLIGHT
DTSTART:20230312T030000
TZOFFSETFROM:-0700
TZOFFSETTO:-0600
TZNAME:MDT
END:DAYLIGHT
END:VTIMEZONE
END:VCALENDAR